Package: aracne.networks Version: 1.32.0 Command: /home/biocbuild/bbs-3.20-bioc/R/bin/R CMD check --install=check:aracne.networks.install-out.txt --library=/home/biocbuild/bbs-3.20-bioc/R/site-library --timings aracne.networks_1.32.0.tar.gz StartedAt: 2025-01-30 11:45:47 -0500 (Thu, 30 Jan 2025) EndedAt: 2025-01-30 11:53:41 -0500 (Thu, 30 Jan 2025) EllapsedTime: 474.1 seconds RetCode: 0 Status: WARNINGS CheckDir: aracne.networks.Rcheck Warnings: 2