Package: bcellViper Version: 1.42.0 Command: /home/biocbuild/bbs-3.20-bioc/R/bin/R CMD build --keep-empty-dirs --no-resave-data bcellViper StartedAt: 2025-02-06 11:05:59 -0500 (Thu, 06 Feb 2025) EndedAt: 2025-02-06 11:06:06 -0500 (Thu, 06 Feb 2025) EllapsedTime: 6.9 seconds RetCode: 0 Status: OK PackageFile: bcellViper_1.42.0.tar.gz PackageFileSize: 11.34 MiB