Package: beadarrayExampleData Version: 1.44.0 Command: /home/biocbuild/bbs-3.20-bioc/R/bin/R CMD INSTALL beadarrayExampleData StartedAt: 2025-02-06 10:58:34 -0500 (Thu, 06 Feb 2025) EndedAt: 2025-02-06 10:58:44 -0500 (Thu, 06 Feb 2025) EllapsedTime: 9.8 seconds RetCode: 0 Status: OK