Package: benchmarkfdrData2019 Version: 1.20.0 Command: /home/biocbuild/bbs-3.20-bioc/R/bin/R CMD check --install=check:benchmarkfdrData2019.install-out.txt --library=/home/biocbuild/bbs-3.20-bioc/R/site-library --timings benchmarkfdrData2019_1.20.0.tar.gz StartedAt: 2025-01-30 11:46:12 -0500 (Thu, 30 Jan 2025) EndedAt: 2025-01-30 11:48:59 -0500 (Thu, 30 Jan 2025) EllapsedTime: 167.3 seconds RetCode: 0 Status: OK CheckDir: benchmarkfdrData2019.Rcheck Warnings: 0