Package: biotmleData Version: 1.30.0 Command: /home/biocbuild/bbs-3.20-bioc/R/bin/R CMD INSTALL biotmleData StartedAt: 2025-01-30 10:55:17 -0500 (Thu, 30 Jan 2025) EndedAt: 2025-01-30 10:55:33 -0500 (Thu, 30 Jan 2025) EllapsedTime: 15.9 seconds RetCode: 0 Status: OK