Package: biscuiteerData Version: 1.20.0 Command: /home/biocbuild/bbs-3.20-bioc/R/bin/R CMD INSTALL biscuiteerData StartedAt: 2025-01-30 10:58:24 -0500 (Thu, 30 Jan 2025) EndedAt: 2025-01-30 10:58:41 -0500 (Thu, 30 Jan 2025) EllapsedTime: 17.1 seconds RetCode: 0 Status: OK