Package: bodymapRat Version: 1.22.0 Command: /home/biocbuild/bbs-3.20-bioc/R/bin/R CMD build --keep-empty-dirs --no-resave-data bodymapRat StartedAt: 2025-01-30 11:07:13 -0500 (Thu, 30 Jan 2025) EndedAt: 2025-01-30 11:07:55 -0500 (Thu, 30 Jan 2025) EllapsedTime: 42.0 seconds RetCode: 0 Status: OK PackageFile: bodymapRat_1.22.0.tar.gz PackageFileSize: 299.2 KiB