Package: bodymapRat Version: 1.22.0 Command: /home/biocbuild/bbs-3.20-bioc/R/bin/R CMD check --install=check:bodymapRat.install-out.txt --library=/home/biocbuild/bbs-3.20-bioc/R/site-library --timings bodymapRat_1.22.0.tar.gz StartedAt: 2025-01-30 11:46:34 -0500 (Thu, 30 Jan 2025) EndedAt: 2025-01-30 11:49:49 -0500 (Thu, 30 Jan 2025) EllapsedTime: 195.7 seconds RetCode: 0 Status: OK CheckDir: bodymapRat.Rcheck Warnings: 0