Package: breakpointRdata Version: 1.24.0 Command: /home/biocbuild/bbs-3.20-bioc/R/bin/R CMD check --install=check:breakpointRdata.install-out.txt --library=/home/biocbuild/bbs-3.20-bioc/R/site-library --timings breakpointRdata_1.24.0.tar.gz StartedAt: 2025-02-06 11:45:04 -0500 (Thu, 06 Feb 2025) EndedAt: 2025-02-06 11:45:22 -0500 (Thu, 06 Feb 2025) EllapsedTime: 18.3 seconds RetCode: 0 Status: OK CheckDir: breakpointRdata.Rcheck Warnings: 0