Package: brgedata Version: 1.28.0 Maintainer: Dolors Pelegri-Siso MaintainerEmail: dolors.pelegri at isglobal.org git_url: https://git.bioconductor.org/packages/brgedata git_branch: RELEASE_3_20 git_last_commit: 771b03b git_last_commit_date: 2024-10-29 09:52:56 -0500 (Tue, 29 Oct 2024)