Package: brgedata Version: 1.28.0 Command: /home/biocbuild/bbs-3.20-bioc/R/bin/R CMD build --keep-empty-dirs --no-resave-data brgedata StartedAt: 2025-02-06 11:06:57 -0500 (Thu, 06 Feb 2025) EndedAt: 2025-02-06 11:10:53 -0500 (Thu, 06 Feb 2025) EllapsedTime: 235.5 seconds RetCode: 0 Status: OK PackageFile: brgedata_1.28.0.tar.gz PackageFileSize: 297 MiB