Package: brgedata Version: 1.28.0 Command: /home/biocbuild/bbs-3.20-bioc/R/bin/R CMD check --install=check:brgedata.install-out.txt --library=/home/biocbuild/bbs-3.20-bioc/R/site-library --timings brgedata_1.28.0.tar.gz StartedAt: 2025-02-06 11:46:16 -0500 (Thu, 06 Feb 2025) EndedAt: 2025-02-06 11:50:29 -0500 (Thu, 06 Feb 2025) EllapsedTime: 253.3 seconds RetCode: 0 Status: WARNINGS CheckDir: brgedata.Rcheck Warnings: 2