Package: brgedata Version: 1.28.0 Command: /home/biocbuild/bbs-3.20-bioc/R/bin/R CMD INSTALL brgedata StartedAt: 2025-02-06 10:58:52 -0500 (Thu, 06 Feb 2025) EndedAt: 2025-02-06 10:59:57 -0500 (Thu, 06 Feb 2025) EllapsedTime: 64.3 seconds RetCode: 0 Status: OK