Package: bronchialIL13 Version: 1.44.0 Command: /home/biocbuild/bbs-3.20-bioc/R/bin/R CMD INSTALL bronchialIL13 StartedAt: 2025-02-06 10:56:20 -0500 (Thu, 06 Feb 2025) EndedAt: 2025-02-06 10:56:25 -0500 (Thu, 06 Feb 2025) EllapsedTime: 5.1 seconds RetCode: 0 Status: OK