Package: bsseqData Version: 0.44.0 Command: /home/biocbuild/bbs-3.20-bioc/R/bin/R CMD INSTALL bsseqData StartedAt: 2025-02-11 11:02:07 -0500 (Tue, 11 Feb 2025) EndedAt: 2025-02-11 11:02:57 -0500 (Tue, 11 Feb 2025) EllapsedTime: 50.2 seconds RetCode: 0 Status: OK