Package: cancerdata Version: 1.44.0 Command: /home/biocbuild/bbs-3.20-bioc/R/bin/R CMD build --keep-empty-dirs --no-resave-data cancerdata StartedAt: 2025-01-30 11:07:46 -0500 (Thu, 30 Jan 2025) EndedAt: 2025-01-30 11:07:49 -0500 (Thu, 30 Jan 2025) EllapsedTime: 2.4 seconds RetCode: 0 Status: OK PackageFile: cancerdata_1.44.0.tar.gz PackageFileSize: 26.69 MiB