Package: cancerdata Version: 1.44.0 Command: /home/biocbuild/bbs-3.20-bioc/R/bin/R CMD INSTALL cancerdata StartedAt: 2025-01-30 10:56:04 -0500 (Thu, 30 Jan 2025) EndedAt: 2025-01-30 10:56:08 -0500 (Thu, 30 Jan 2025) EllapsedTime: 3.1 seconds RetCode: 0 Status: OK