Package: ccdata Version: 1.32.0 Command: /home/biocbuild/bbs-3.20-bioc/R/bin/R CMD build --keep-empty-dirs --no-resave-data ccdata StartedAt: 2025-01-30 11:07:49 -0500 (Thu, 30 Jan 2025) EndedAt: 2025-01-30 11:08:40 -0500 (Thu, 30 Jan 2025) EllapsedTime: 51.2 seconds RetCode: 0 Status: OK PackageFile: ccdata_1.32.0.tar.gz PackageFileSize: 893.9 MiB