Package: ccdata Version: 1.32.0 Command: /home/biocbuild/bbs-3.20-bioc/R/bin/R CMD INSTALL ccdata StartedAt: 2025-02-06 10:55:45 -0500 (Thu, 06 Feb 2025) EndedAt: 2025-02-06 10:55:49 -0500 (Thu, 06 Feb 2025) EllapsedTime: 4.2 seconds RetCode: 0 Status: OK