Package: cfToolsData Version: 1.4.0 Command: /home/biocbuild/bbs-3.20-bioc/R/bin/R CMD check --install=check:cfToolsData.install-out.txt --library=/home/biocbuild/bbs-3.20-bioc/R/site-library --timings cfToolsData_1.4.0.tar.gz StartedAt: 2025-01-30 11:49:50 -0500 (Thu, 30 Jan 2025) EndedAt: 2025-01-30 11:51:52 -0500 (Thu, 30 Jan 2025) EllapsedTime: 122.8 seconds RetCode: 0 Status: OK CheckDir: cfToolsData.Rcheck Warnings: 0