Package: chipenrich.data Version: 2.30.0 Command: /home/biocbuild/bbs-3.20-bioc/R/bin/R CMD build --keep-empty-dirs --no-resave-data chipenrich.data StartedAt: 2025-01-30 11:08:42 -0500 (Thu, 30 Jan 2025) EndedAt: 2025-01-30 11:10:41 -0500 (Thu, 30 Jan 2025) EllapsedTime: 119.3 seconds RetCode: 0 Status: OK PackageFile: chipenrich.data_2.30.0.tar.gz PackageFileSize: 106.3 MiB