Package: chipenrich.data Version: 2.30.0 Command: /home/biocbuild/bbs-3.20-bioc/R/bin/R CMD check --install=check:chipenrich.data.install-out.txt --library=/home/biocbuild/bbs-3.20-bioc/R/site-library --timings chipenrich.data_2.30.0.tar.gz StartedAt: 2025-01-30 11:50:31 -0500 (Thu, 30 Jan 2025) EndedAt: 2025-01-30 11:55:16 -0500 (Thu, 30 Jan 2025) EllapsedTime: 285.3 seconds RetCode: 0 Status: WARNINGS CheckDir: chipenrich.data.Rcheck Warnings: 3