Package: chipenrich.data Version: 2.30.0 Command: /home/biocbuild/bbs-3.20-bioc/R/bin/R CMD INSTALL chipenrich.data StartedAt: 2025-01-30 11:02:00 -0500 (Thu, 30 Jan 2025) EndedAt: 2025-01-30 11:03:54 -0500 (Thu, 30 Jan 2025) EllapsedTime: 114.5 seconds RetCode: 0 Status: OK