Package: cnvGSAdata Version: 1.42.0 Command: /home/biocbuild/bbs-3.20-bioc/R/bin/R CMD build --keep-empty-dirs --no-resave-data cnvGSAdata StartedAt: 2025-01-30 11:10:04 -0500 (Thu, 30 Jan 2025) EndedAt: 2025-01-30 11:10:05 -0500 (Thu, 30 Jan 2025) EllapsedTime: 1.3 seconds RetCode: 0 Status: OK PackageFile: cnvGSAdata_1.42.0.tar.gz PackageFileSize: 6.235 MiB