Package: cnvGSAdata Version: 1.42.0 Command: /home/biocbuild/bbs-3.20-bioc/R/bin/R CMD check --install=check:cnvGSAdata.install-out.txt --library=/home/biocbuild/bbs-3.20-bioc/R/site-library --timings cnvGSAdata_1.42.0.tar.gz StartedAt: 2025-01-30 11:51:58 -0500 (Thu, 30 Jan 2025) EndedAt: 2025-01-30 11:52:52 -0500 (Thu, 30 Jan 2025) EllapsedTime: 53.4 seconds RetCode: 0 Status: WARNINGS CheckDir: cnvGSAdata.Rcheck Warnings: 1