Package: cnvGSAdata Version: 1.42.0 Command: /home/biocbuild/bbs-3.20-bioc/R/bin/R CMD INSTALL cnvGSAdata StartedAt: 2025-01-30 10:58:32 -0500 (Thu, 30 Jan 2025) EndedAt: 2025-01-30 10:58:38 -0500 (Thu, 30 Jan 2025) EllapsedTime: 6.5 seconds RetCode: 0 Status: OK