Package: curatedAdipoRNA Version: 1.22.0 Command: /home/biocbuild/bbs-3.20-bioc/R/bin/R CMD check --install=check:curatedAdipoRNA.install-out.txt --library=/home/biocbuild/bbs-3.20-bioc/R/site-library --timings curatedAdipoRNA_1.22.0.tar.gz StartedAt: 2025-01-30 11:53:45 -0500 (Thu, 30 Jan 2025) EndedAt: 2025-01-30 11:55:56 -0500 (Thu, 30 Jan 2025) EllapsedTime: 131.5 seconds RetCode: 0 Status: WARNINGS CheckDir: curatedAdipoRNA.Rcheck Warnings: 1