Package: curatedBladderData Version: 1.42.0 Command: /home/biocbuild/bbs-3.20-bioc/R/bin/R CMD check --install=check:curatedBladderData.install-out.txt --library=/home/biocbuild/bbs-3.20-bioc/R/site-library --timings curatedBladderData_1.42.0.tar.gz StartedAt: 2025-01-30 11:53:57 -0500 (Thu, 30 Jan 2025) EndedAt: 2025-01-30 11:55:00 -0500 (Thu, 30 Jan 2025) EllapsedTime: 62.3 seconds RetCode: 0 Status: OK CheckDir: curatedBladderData.Rcheck Warnings: 0