Package: curatedBreastData Version: 2.34.0 Command: /home/biocbuild/bbs-3.20-bioc/R/bin/R CMD check --install=check:curatedBreastData.install-out.txt --library=/home/biocbuild/bbs-3.20-bioc/R/site-library --timings curatedBreastData_2.34.0.tar.gz StartedAt: 2025-01-30 11:54:08 -0500 (Thu, 30 Jan 2025) EndedAt: 2025-01-30 12:00:55 -0500 (Thu, 30 Jan 2025) EllapsedTime: 407.3 seconds RetCode: 0 Status: OK CheckDir: curatedBreastData.Rcheck Warnings: 0