Package: curatedCRCData Version: 2.38.0 Command: /home/biocbuild/bbs-3.20-bioc/R/bin/R CMD build --keep-empty-dirs --no-resave-data curatedCRCData StartedAt: 2025-02-06 11:10:23 -0500 (Thu, 06 Feb 2025) EndedAt: 2025-02-06 11:11:51 -0500 (Thu, 06 Feb 2025) EllapsedTime: 87.7 seconds RetCode: 0 Status: OK PackageFile: curatedCRCData_2.38.0.tar.gz PackageFileSize: 398.8 MiB