Package: curatedPCaData Version: 1.2.0 Command: /home/biocbuild/bbs-3.20-bioc/R/bin/R CMD build --keep-empty-dirs --no-resave-data curatedPCaData StartedAt: 2025-02-06 11:10:54 -0500 (Thu, 06 Feb 2025) EndedAt: 2025-02-06 11:17:34 -0500 (Thu, 06 Feb 2025) EllapsedTime: 400.6 seconds RetCode: 0 Status: OK PackageFile: curatedPCaData_1.2.0.tar.gz PackageFileSize: 2.937 MiB