Package: curatedPCaData Version: 1.2.0 Command: /home/biocbuild/bbs-3.20-bioc/R/bin/R CMD INSTALL curatedPCaData StartedAt: 2025-02-06 11:00:22 -0500 (Thu, 06 Feb 2025) EndedAt: 2025-02-06 11:01:03 -0500 (Thu, 06 Feb 2025) EllapsedTime: 41.2 seconds RetCode: 0 Status: OK