Package: curatedTBData Version: 2.2.0 Command: /home/biocbuild/bbs-3.20-bioc/R/bin/R CMD build --keep-empty-dirs --no-resave-data curatedTBData StartedAt: 2025-01-30 11:12:03 -0500 (Thu, 30 Jan 2025) EndedAt: 2025-01-30 11:14:40 -0500 (Thu, 30 Jan 2025) EllapsedTime: 156.9 seconds RetCode: 0 Status: OK PackageFile: curatedTBData_2.2.0.tar.gz PackageFileSize: 361.4 KiB