Package: curatedTBData Version: 2.2.0 Command: /home/biocbuild/bbs-3.20-bioc/R/bin/R CMD INSTALL curatedTBData StartedAt: 2025-01-30 11:00:14 -0500 (Thu, 30 Jan 2025) EndedAt: 2025-01-30 11:00:42 -0500 (Thu, 30 Jan 2025) EllapsedTime: 27.4 seconds RetCode: 0 Status: OK