Package: curatedTCGAData Version: 1.28.1 Command: /home/biocbuild/bbs-3.20-bioc/R/bin/R CMD build --keep-empty-dirs --no-resave-data curatedTCGAData StartedAt: 2025-01-30 11:12:29 -0500 (Thu, 30 Jan 2025) EndedAt: 2025-01-30 11:13:45 -0500 (Thu, 30 Jan 2025) EllapsedTime: 76.1 seconds RetCode: 0 Status: OK PackageFile: curatedTCGAData_1.28.1.tar.gz PackageFileSize: 416.6 KiB