Package: curatedTCGAData Version: 1.28.1 Command: /home/biocbuild/bbs-3.20-bioc/R/bin/R CMD check --install=check:curatedTCGAData.install-out.txt --library=/home/biocbuild/bbs-3.20-bioc/R/site-library --timings curatedTCGAData_1.28.1.tar.gz StartedAt: 2025-01-30 11:55:17 -0500 (Thu, 30 Jan 2025) EndedAt: 2025-01-30 11:59:06 -0500 (Thu, 30 Jan 2025) EllapsedTime: 229.6 seconds RetCode: 0 Status: OK CheckDir: curatedTCGAData.Rcheck Warnings: 0