Package: depmap Version: 1.20.0 Maintainer: Laurent Gatto MaintainerEmail: laurent.gatto at uclouvain.be git_url: https://git.bioconductor.org/packages/depmap git_branch: RELEASE_3_20 git_last_commit: 1c5d837 git_last_commit_date: 2024-10-29 09:50:10 -0500 (Tue, 29 Oct 2024)