Package: depmap Version: 1.20.0 Command: /home/biocbuild/bbs-3.20-bioc/R/bin/R CMD build --keep-empty-dirs --no-resave-data depmap StartedAt: 2025-02-06 11:12:55 -0500 (Thu, 06 Feb 2025) EndedAt: 2025-02-06 11:21:55 -0500 (Thu, 06 Feb 2025) EllapsedTime: 540.7 seconds RetCode: 0 Status: OK PackageFile: depmap_1.20.0.tar.gz PackageFileSize: 1.558 MiB