Package: diffloopdata Version: 1.34.0 Command: /home/biocbuild/bbs-3.20-bioc/R/bin/R CMD build --keep-empty-dirs --no-resave-data diffloopdata StartedAt: 2025-01-30 11:13:51 -0500 (Thu, 30 Jan 2025) EndedAt: 2025-01-30 11:14:02 -0500 (Thu, 30 Jan 2025) EllapsedTime: 11.3 seconds RetCode: 0 Status: OK PackageFile: diffloopdata_1.34.0.tar.gz PackageFileSize: 11.08 MiB