Package: dorothea Version: 1.18.0 Command: /home/biocbuild/bbs-3.20-bioc/R/bin/R CMD build --keep-empty-dirs --no-resave-data dorothea StartedAt: 2025-02-06 11:13:32 -0500 (Thu, 06 Feb 2025) EndedAt: 2025-02-06 11:15:19 -0500 (Thu, 06 Feb 2025) EllapsedTime: 107.2 seconds RetCode: 0 Status: OK PackageFile: dorothea_1.18.0.tar.gz PackageFileSize: 33.1 MiB