Package: dorothea Version: 1.18.0 Command: /home/biocbuild/bbs-3.20-bioc/R/bin/R CMD check --install=check:dorothea.install-out.txt --library=/home/biocbuild/bbs-3.20-bioc/R/site-library --timings dorothea_1.18.0.tar.gz StartedAt: 2025-02-11 11:58:29 -0500 (Tue, 11 Feb 2025) EndedAt: 2025-02-11 12:00:58 -0500 (Tue, 11 Feb 2025) EllapsedTime: 149.5 seconds RetCode: 0 Status: OK CheckDir: dorothea.Rcheck Warnings: 0