Package: dressCheck Version: 0.44.0 Command: /home/biocbuild/bbs-3.20-bioc/R/bin/R CMD check --install=check:dressCheck.install-out.txt --library=/home/biocbuild/bbs-3.20-bioc/R/site-library --timings dressCheck_0.44.0.tar.gz StartedAt: 2025-02-06 11:57:47 -0500 (Thu, 06 Feb 2025) EndedAt: 2025-02-06 11:58:36 -0500 (Thu, 06 Feb 2025) EllapsedTime: 48.5 seconds RetCode: 0 Status: OK CheckDir: dressCheck.Rcheck Warnings: 0