Package: easierData Version: 1.12.0 Command: /home/biocbuild/bbs-3.20-bioc/R/bin/R CMD INSTALL easierData StartedAt: 2025-02-11 11:05:11 -0500 (Tue, 11 Feb 2025) EndedAt: 2025-02-11 11:05:38 -0500 (Tue, 11 Feb 2025) EllapsedTime: 26.5 seconds RetCode: 0 Status: OK