Package: emtdata Version: 1.14.0 Command: /home/biocbuild/bbs-3.20-bioc/R/bin/R CMD INSTALL emtdata StartedAt: 2025-02-11 10:59:35 -0500 (Tue, 11 Feb 2025) EndedAt: 2025-02-11 10:59:45 -0500 (Tue, 11 Feb 2025) EllapsedTime: 9.9 seconds RetCode: 0 Status: OK