Package: eoPredData Version: 1.0.0 Command: /home/biocbuild/bbs-3.20-bioc/R/bin/R CMD check --install=check:eoPredData.install-out.txt --library=/home/biocbuild/bbs-3.20-bioc/R/site-library --timings eoPredData_1.0.0.tar.gz StartedAt: 2025-02-06 11:59:52 -0500 (Thu, 06 Feb 2025) EndedAt: 2025-02-06 12:00:40 -0500 (Thu, 06 Feb 2025) EllapsedTime: 47.6 seconds RetCode: 0 Status: OK CheckDir: eoPredData.Rcheck Warnings: 0