Package: epimutacionsData Version: 1.10.0 Command: /home/biocbuild/bbs-3.20-bioc/R/bin/R CMD check --install=check:epimutacionsData.install-out.txt --library=/home/biocbuild/bbs-3.20-bioc/R/site-library --timings epimutacionsData_1.10.0.tar.gz StartedAt: 2025-01-30 12:01:38 -0500 (Thu, 30 Jan 2025) EndedAt: 2025-01-30 12:02:17 -0500 (Thu, 30 Jan 2025) EllapsedTime: 39.3 seconds RetCode: 0 Status: OK CheckDir: epimutacionsData.Rcheck Warnings: 0