Package: estrogen Version: 1.52.0 Command: /home/biocbuild/bbs-3.20-bioc/R/bin/R CMD build --keep-empty-dirs --no-resave-data estrogen StartedAt: 2025-01-30 11:15:29 -0500 (Thu, 30 Jan 2025) EndedAt: 2025-01-30 11:16:45 -0500 (Thu, 30 Jan 2025) EllapsedTime: 76.4 seconds RetCode: 0 Status: OK PackageFile: estrogen_1.52.0.tar.gz PackageFileSize: 26.3 MiB