Package: ewceData Version: 1.14.0 Command: /home/biocbuild/bbs-3.20-bioc/R/bin/R CMD build --keep-empty-dirs --no-resave-data ewceData StartedAt: 2025-02-06 11:15:09 -0500 (Thu, 06 Feb 2025) EndedAt: 2025-02-06 11:16:06 -0500 (Thu, 06 Feb 2025) EllapsedTime: 56.5 seconds RetCode: 0 Status: OK PackageFile: ewceData_1.14.0.tar.gz PackageFileSize: 44.37 KiB