Package: faahKO Version: 1.46.0 Command: /home/biocbuild/bbs-3.20-bioc/R/bin/R CMD INSTALL faahKO StartedAt: 2025-02-11 11:04:13 -0500 (Tue, 11 Feb 2025) EndedAt: 2025-02-11 11:05:11 -0500 (Tue, 11 Feb 2025) EllapsedTime: 57.9 seconds RetCode: 0 Status: OK