Package: ffpeExampleData Version: 1.44.0 Command: /home/biocbuild/bbs-3.20-bioc/R/bin/R CMD build --keep-empty-dirs --no-resave-data ffpeExampleData StartedAt: 2025-01-30 11:16:09 -0500 (Thu, 30 Jan 2025) EndedAt: 2025-01-30 11:16:10 -0500 (Thu, 30 Jan 2025) EllapsedTime: 1.0 seconds RetCode: 0 Status: OK PackageFile: ffpeExampleData_1.44.0.tar.gz PackageFileSize: 6.727 MiB